BEGIN:VCALENDAR
VERSION:2.0
PRODID:-//Bharat Sevashram - ECPv6.13.2.1//NONSGML v1.0//EN
CALSCALE:GREGORIAN
METHOD:PUBLISH
X-WR-CALNAME:Bharat Sevashram
X-ORIGINAL-URL:https://bsshyd.org
X-WR-CALDESC:Events for Bharat Sevashram
REFRESH-INTERVAL;VALUE=DURATION:PT1H
X-Robots-Tag:noindex
X-PUBLISHED-TTL:PT1H
BEGIN:VTIMEZONE
TZID:UTC
BEGIN:STANDARD
TZOFFSETFROM:+0000
TZOFFSETTO:+0000
TZNAME:UTC
DTSTART:20210101T000000
END:STANDARD
END:VTIMEZONE
BEGIN:VTIMEZONE
TZID:Asia/Kolkata
BEGIN:STANDARD
TZOFFSETFROM:+0530
TZOFFSETTO:+0530
TZNAME:IST
DTSTART:20170101T000000
END:STANDARD
END:VTIMEZONE
BEGIN:VEVENT
DTSTART;TZID=UTC:20210914T080000
DTEND;TZID=UTC:20210914T170000
DTSTAMP:20260423T161213
CREATED:20210913T023225Z
LAST-MODIFIED:20210914T023621Z
UID:1184-1631606400-1631638800@bsshyd.org
SUMMARY:Flood Relief Operation at South India
DESCRIPTION:Bharatsevashram Sangha\, Hyderabad branch along with Bangalore and Trivandram branch conducted a joint flood relief operation at Belagami\, Karnataka for the flood affected people on 29th July 2021. Over 1000 people have been helped with Sarees\, T-shirts\, Shirts\, Blanket\, Rice\, Milk\, Buiskits etc. The distribution was supervised by experienced Swami Muneeswaranandaji and was assisted by Swami Shivapremanandaji and Bramhachari Shukhdeva..
URL:https://bsshyd.org/event/flood-relief-operation-at-south-india/
END:VEVENT
BEGIN:VEVENT
DTSTART;VALUE=DATE:20170404
DTEND;VALUE=DATE:20170406
DTSTAMP:20260423T161213
CREATED:20170121T050715Z
LAST-MODIFIED:20170121T164504Z
UID:800-1491264000-1491436799@bsshyd.org
SUMMARY:Annapurna Puja
DESCRIPTION:Annapurna Puja Nirghanta
URL:https://bsshyd.org/event/annapurna-puja-nirghanta/
LOCATION:Bharat Sevashram Sangha\, 1-2-603/1\, Bharat Sevashram Sangha Marg \, Hyderabad\, Telangana\, India
CATEGORIES:Upcoming
END:VEVENT
END:VCALENDAR